Workbook

Sheet Summary
A1: Measure | B1: Value
A2: Reporting months | B2: 3 | T2: Total actual (cents) | U2: =SUM(Monthly!K2:K10)
A3: Transactions | B3: =SUM(Monthly!I2:I10) | T3: Total budget (cents) | U3: =SUM(Monthly!L2:L10)
A4: Actual spend | B4: =$U$2/100
A5: Budget | B5: =$U$3/100
A6: Remaining budget | B6: =($U$3-$U$2)/100
A7: Budget variance % | B7: =IF($U$3=0,"",($U$3-$U$2)/$U$3)
A8: Average spend per month | B8: =IF(B2=0,"",SIGN($U$2)*ROUND(ABS($U$2)/B2,0)/100)
A9: Scope | B9: Synthetic operating expenses. Positive amounts are spend. Negative amounts are refunds.
A10: Refresh | B10: Edit existing amounts to recalculate. Rerun after changing dates, categories or input rows.
A12: Month | B12: Actual | C12: Budget | D12: Period
A13: 46023 | B13: =SUMIF(Monthly!$A$2:$A$10,A13,Monthly!$K$2:$K$10)/100 | C13: =SUMIF(Monthly!$A$2:$A$10,A13,Monthly!$L$2:$L$10)/100 | D13: Jan 2026
A14: 46054 | B14: =SUMIF(Monthly!$A$2:$A$10,A14,Monthly!$K$2:$K$10)/100 | C14: =SUMIF(Monthly!$A$2:$A$10,A14,Monthly!$L$2:$L$10)/100 | D14: Feb 2026
A15: 46082 | B15: =SUMIF(Monthly!$A$2:$A$10,A15,Monthly!$K$2:$K$10)/100 | C15: =SUMIF(Monthly!$A$2:$A$10,A15,Monthly!$L$2:$L$10)/100 | D15: Mar 2026

Sheet Monthly
A1: Month | B1: Category | C1: Actual | D1: Budget | E1: Variance | F1: Variance % | G1: Prior month | H1: Delta | I1: Transactions | J1: Avg per transaction | K1: Actual (cents) | L1: Budget (cents)
A2: 46023 | B2: Facilities | C2: =K2/100 | D2: =L2/100 | E2: =(L2-K2)/100 | F2: =IF(D2=0,"",E2/D2) | I2: =COUNTIFS(Transactions!$C$2:$C$13,B2,Transactions!$B$2:$B$13,">="&A2,Transactions!$B$2:$B$13,"<"&EDATE(A2,1)) | J2: =IF(I2=0,"",SIGN(K2)*ROUND(ABS(K2)/I2,0)/100) | K2: =SUMIFS(Transactions!$F$2:$F$13,Transactions!$C$2:$C$13,B2,Transactions!$B$2:$B$13,">="&A2,Transactions!$B$2:$B$13,"<"&EDATE(A2,1)) | L2: =SUMIFS(Budgets!$D$2:$D$10,Budgets!$B$2:$B$10,B2,Budgets!$A$2:$A$10,A2)
A3: 46023 | B3: Software | C3: =K3/100 | D3: =L3/100 | E3: =(L3-K3)/100 | F3: =IF(D3=0,"",E3/D3) | I3: =COUNTIFS(Transactions!$C$2:$C$13,B3,Transactions!$B$2:$B$13,">="&A3,Transactions!$B$2:$B$13,"<"&EDATE(A3,1)) | J3: =IF(I3=0,"",SIGN(K3)*ROUND(ABS(K3)/I3,0)/100) | K3: =SUMIFS(Transactions!$F$2:$F$13,Transactions!$C$2:$C$13,B3,Transactions!$B$2:$B$13,">="&A3,Transactions!$B$2:$B$13,"<"&EDATE(A3,1)) | L3: =SUMIFS(Budgets!$D$2:$D$10,Budgets!$B$2:$B$10,B3,Budgets!$A$2:$A$10,A3)
A4: 46023 | B4: Travel | C4: =K4/100 | D4: =L4/100 | E4: =(L4-K4)/100 | F4: =IF(D4=0,"",E4/D4) | I4: =COUNTIFS(Transactions!$C$2:$C$13,B4,Transactions!$B$2:$B$13,">="&A4,Transactions!$B$2:$B$13,"<"&EDATE(A4,1)) | J4: =IF(I4=0,"",SIGN(K4)*ROUND(ABS(K4)/I4,0)/100) | K4: =SUMIFS(Transactions!$F$2:$F$13,Transactions!$C$2:$C$13,B4,Transactions!$B$2:$B$13,">="&A4,Transactions!$B$2:$B$13,"<"&EDATE(A4,1)) | L4: =SUMIFS(Budgets!$D$2:$D$10,Budgets!$B$2:$B$10,B4,Budgets!$A$2:$A$10,A4)
A5: 46054 | B5: Facilities | C5: =K5/100 | D5: =L5/100 | E5: =(L5-K5)/100 | F5: =IF(D5=0,"",E5/D5) | G5: =C2 | H5: =(K5-K2)/100 | I5: =COUNTIFS(Transactions!$C$2:$C$13,B5,Transactions!$B$2:$B$13,">="&A5,Transactions!$B$2:$B$13,"<"&EDATE(A5,1)) | J5: =IF(I5=0,"",SIGN(K5)*ROUND(ABS(K5)/I5,0)/100) | K5: =SUMIFS(Transactions!$F$2:$F$13,Transactions!$C$2:$C$13,B5,Transactions!$B$2:$B$13,">="&A5,Transactions!$B$2:$B$13,"<"&EDATE(A5,1)) | L5: =SUMIFS(Budgets!$D$2:$D$10,Budgets!$B$2:$B$10,B5,Budgets!$A$2:$A$10,A5)
A6: 46054 | B6: Software | C6: =K6/100 | D6: =L6/100 | E6: =(L6-K6)/100 | F6: =IF(D6=0,"",E6/D6) | G6: =C3 | H6: =(K6-K3)/100 | I6: =COUNTIFS(Transactions!$C$2:$C$13,B6,Transactions!$B$2:$B$13,">="&A6,Transactions!$B$2:$B$13,"<"&EDATE(A6,1)) | J6: =IF(I6=0,"",SIGN(K6)*ROUND(ABS(K6)/I6,0)/100) | K6: =SUMIFS(Transactions!$F$2:$F$13,Transactions!$C$2:$C$13,B6,Transactions!$B$2:$B$13,">="&A6,Transactions!$B$2:$B$13,"<"&EDATE(A6,1)) | L6: =SUMIFS(Budgets!$D$2:$D$10,Budgets!$B$2:$B$10,B6,Budgets!$A$2:$A$10,A6)
A7: 46054 | B7: Travel | C7: =K7/100 | D7: =L7/100 | E7: =(L7-K7)/100 | F7: =IF(D7=0,"",E7/D7) | G7: =C4 | H7: =(K7-K4)/100 | I7: =COUNTIFS(Transactions!$C$2:$C$13,B7,Transactions!$B$2:$B$13,">="&A7,Transactions!$B$2:$B$13,"<"&EDATE(A7,1)) | J7: =IF(I7=0,"",SIGN(K7)*ROUND(ABS(K7)/I7,0)/100) | K7: =SUMIFS(Transactions!$F$2:$F$13,Transactions!$C$2:$C$13,B7,Transactions!$B$2:$B$13,">="&A7,Transactions!$B$2:$B$13,"<"&EDATE(A7,1)) | L7: =SUMIFS(Budgets!$D$2:$D$10,Budgets!$B$2:$B$10,B7,Budgets!$A$2:$A$10,A7)
A8: 46082 | B8: Facilities | C8: =K8/100 | D8: =L8/100 | E8: =(L8-K8)/100 | F8: =IF(D8=0,"",E8/D8) | G8: =C5 | H8: =(K8-K5)/100 | I8: =COUNTIFS(Transactions!$C$2:$C$13,B8,Transactions!$B$2:$B$13,">="&A8,Transactions!$B$2:$B$13,"<"&EDATE(A8,1)) | J8: =IF(I8=0,"",SIGN(K8)*ROUND(ABS(K8)/I8,0)/100) | K8: =SUMIFS(Transactions!$F$2:$F$13,Transactions!$C$2:$C$13,B8,Transactions!$B$2:$B$13,">="&A8,Transactions!$B$2:$B$13,"<"&EDATE(A8,1)) | L8: =SUMIFS(Budgets!$D$2:$D$10,Budgets!$B$2:$B$10,B8,Budgets!$A$2:$A$10,A8)
A9: 46082 | B9: Software | C9: =K9/100 | D9: =L9/100 | E9: =(L9-K9)/100 | F9: =IF(D9=0,"",E9/D9) | G9: =C6 | H9: =(K9-K6)/100 | I9: =COUNTIFS(Transactions!$C$2:$C$13,B9,Transactions!$B$2:$B$13,">="&A9,Transactions!$B$2:$B$13,"<"&EDATE(A9,1)) | J9: =IF(I9=0,"",SIGN(K9)*ROUND(ABS(K9)/I9,0)/100) | K9: =SUMIFS(Transactions!$F$2:$F$13,Transactions!$C$2:$C$13,B9,Transactions!$B$2:$B$13,">="&A9,Transactions!$B$2:$B$13,"<"&EDATE(A9,1)) | L9: =SUMIFS(Budgets!$D$2:$D$10,Budgets!$B$2:$B$10,B9,Budgets!$A$2:$A$10,A9)
A10: 46082 | B10: Travel | C10: =K10/100 | D10: =L10/100 | E10: =(L10-K10)/100 | F10: =IF(D10=0,"",E10/D10) | G10: =C7 | H10: =(K10-K7)/100 | I10: =COUNTIFS(Transactions!$C$2:$C$13,B10,Transactions!$B$2:$B$13,">="&A10,Transactions!$B$2:$B$13,"<"&EDATE(A10,1)) | J10: =IF(I10=0,"",SIGN(K10)*ROUND(ABS(K10)/I10,0)/100) | K10: =SUMIFS(Transactions!$F$2:$F$13,Transactions!$C$2:$C$13,B10,Transactions!$B$2:$B$13,">="&A10,Transactions!$B$2:$B$13,"<"&EDATE(A10,1)) | L10: =SUMIFS(Budgets!$D$2:$D$10,Budgets!$B$2:$B$10,B10,Budgets!$A$2:$A$10,A10)

Sheet Transactions
A1: Transaction ID | B1: Date | C1: Category | D1: Description | E1: Amount | F1: Amount (cents)
A2: TX-001 | B2: 46027 | C2: Facilities | D2: Office rent | E2: 1200 | F2: =ROUND(E2*100,0)
A3: TX-002 | B3: 46033 | C3: Software | D3: Accounting subscription | E3: 75 | F3: =ROUND(E3*100,0)
A4: TX-003 | B4: 46043 | C4: Travel | D4: Client visit | E4: 210.5 | F4: =ROUND(E4*100,0)
A5: TX-004 | B5: 46046 | C5: Facilities | D5: Utilities | E5: 180.2 | F5: =ROUND(E5*100,0)
A6: TX-005 | B6: 46058 | C6: Facilities | D6: Office rent | E6: 1200 | F6: =ROUND(E6*100,0)
A7: TX-006 | B7: 46065 | C7: Software | D7: Accounting subscription | E7: 75 | F7: =ROUND(E7*100,0)
A8: TX-007 | B8: 46070 | C8: Travel | D8: Client visit | E8: 315.25 | F8: =ROUND(E8*100,0)
A9: TX-008 | B9: 46075 | C9: Travel | D9: Ticket refund | E9: -25 | F9: =ROUND(E9*100,0)
A10: TX-009 | B10: 46086 | C10: Facilities | D10: Office rent | E10: 1200 | F10: =ROUND(E10*100,0)
A11: TX-010 | B11: 46092 | C11: Software | D11: Accounting subscription | E11: 75 | F11: =ROUND(E11*100,0)
A12: TX-011 | B12: 46099 | C12: Travel | D12: Client visit | E12: 112.75 | F12: =ROUND(E12*100,0)
A13: TX-012 | B13: 46109 | C13: Facilities | D13: Utilities | E13: 205 | F13: =ROUND(E13*100,0)

Sheet Budgets
A1: Month | B1: Category | C1: Budget | D1: Budget (cents)
A2: 46023 | B2: Facilities | C2: 1500 | D2: =ROUND(C2*100,0)
A3: 46023 | B3: Software | C3: 100 | D3: =ROUND(C3*100,0)
A4: 46023 | B4: Travel | C4: 300 | D4: =ROUND(C4*100,0)
A5: 46054 | B5: Facilities | C5: 1500 | D5: =ROUND(C5*100,0)
A6: 46054 | B6: Software | C6: 100 | D6: =ROUND(C6*100,0)
A7: 46054 | B7: Travel | C7: 300 | D7: =ROUND(C7*100,0)
A8: 46082 | B8: Facilities | C8: 1500 | D8: =ROUND(C8*100,0)
A9: 46082 | B9: Software | C9: 100 | D9: =ROUND(C9*100,0)
A10: 46082 | B10: Travel | C10: 300 | D10: =ROUND(C10*100,0)
